BEGIN:VCALENDAR
VERSION:2.0
CALSCALE:GREGORIAN
METHOD:PUBLISH
PRODID://NELA//209807
BEGIN:VEVENT
DTSTAMP:20260421T044824
VTIMEZONE:America/New_York
DTSTART:20260318T160000Z
DTEND:20260318T173000Z
UID:209807
SUMMARY:NELAÂ NiteÂ at Noon:Â "NELA Nite @ Noon: Emerging Lawyer Roundtableâ€ (3/18/26)
LOCATION:via Zoom Webinar
DESCRIPTION:NELAÂ NiteÂ at Noon:Â "NELA Nite @ Noon: Emerging Lawyer Roundtableâ€ (3/18/26)\n\n03/18/26 12:00 PM EST\n - 03/18/26 01:30 PM EST\Description:\nNELA Nite at Noon: "Emerging Lawyer Roundtable" (3/18/26)\n \nMarch 18, 2026 from 12-1:30 PM EST via Zoom Webinar\n1.5 CLE Credit (Diversity, Inclusion and Elimination of Bias)\n$25 NELA and affiliate Members / $50 Non-Members\nJoin emerging lawyers Jacqueline Carranza of Elefterakis, Elefterakis & Panek, Ingrid Fernandez of Mizrahi Kroub, Katlyn Palmatier of Mesidor PLLC, and Evan Richardson of Harman Green LLC for a candid and interactive roundtable about their experience as new plaintiff-side employment practitioners, including: (1) how plaintiff-side law firms can nourish a pipeline of lawyers and counteract the push to BigLaw, including by conveying how this field can be rewarding; (2) best practices for nurturing emerging lawyers, including brokering mentorship relationships, providing clear guidance and feedback, and creating safe spaces for making mistakes; (3) supporting differences in personal identity, politics, and principles with colleagues, supervisors and adversaries, particularly in the current climate; and (4) recognizing the personal challenge of dealing with the erosion of civil rights protections when one’s own rights are at issue. \nRegister today!\Location:\nvia Zoom Webinar\n\n,
X-ALT-DESC;FMTTYPE=text/html:NELAÂ NiteÂ at Noon:Â "NELA Nite @ Noon: Emerging Lawyer Roundtableâ€ (3/18/26)<br /><br />03/18/26 12:00 PM EST - 03/18/26 01:30 PM EST<br />Description:<br /><u><strong>NELA&nbsp;Nite&nbsp;at Noon:&nbsp;</strong></u>&quot;Emerging Lawyer Roundtable&quot; (3/18/26)<br />
&nbsp;<br />
March 18, 2026 from 12-1:30 PM EST via Zoom Webinar<br />
1.5 CLE Credit (Diversity, Inclusion and Elimination of Bias)<br />
$25&nbsp;NELA&nbsp;and affiliate Members / $50 Non-Members
<p dir="auto">Join emerging lawyers&nbsp;Jacqueline Carranza&nbsp;of Elefterakis, Elefterakis &amp; Panek,&nbsp;Ingrid Fernandez&nbsp;of Mizrahi Kroub,&nbsp;Katlyn Palmatier&nbsp;of Mesidor PLLC, and&nbsp;Evan Richardson&nbsp;of Harman Green LLC for a candid and interactive roundtable about their experience as new plaintiff-side employment practitioners, including: (1) how plaintiff-side law firms can nourish a pipeline of lawyers and counteract the push to BigLaw, including by conveying how this field can be rewarding; (2) best practices for nurturing emerging lawyers, including brokering mentorship relationships, providing&nbsp;clear guidance and feedback, and creating safe spaces for making mistakes; (3) supporting differences in personal identity, politics, and principles with colleagues, supervisors and adversaries, particularly in the current climate; and (4) recognizing the personal challenge of dealing with the erosion of civil rights protections when one&rsquo;s own rights are at issue.&nbsp;</p>
<em><strong>Register today!</strong></em><br />Location:<br />via Zoom Webinar<br /><br />,  
PRIORITY:3
TRANSP:TRANSPARENT
BEGIN:VALARM
TRIGGER:-PT5M
ACTION:DISPLAY
DESCRIPTION:Reminder
END:VALARM
END:VEVENT
END:VCALENDAR
